BEGIN:VCALENDAR
VERSION:2.0
PRODID:-//CHAMBER DASHBOARD//EVENTS CALENDAR2.0//EN
CALSCALE:GREGORIAN
BEGIN:VEVENT
DTEND:20191007T200000Z
UID:69e8b239944c5
DTSTAMP:20260422T113417Z
CATEGORIES:Ribbon Cutting
DESCRIPTION:Grand opening and ribbon cutting ceremony at Yami's Puerto Rican Cuisine.    Location: 2234 Green Bay Rd.\, North Chicago\, IL 60064
URL;VALUE=URI:https://northchicagochamber.org/event/ribbon-cutting-yamis-puerto-rican-cuisine/
SUMMARY:Ribbon Cutting | Yami&#039\;s Puerto Rican Cuisine
DTSTART:20191007T190000Z
END:VEVENT
END:VCALENDAR
